BEGIN:VCALENDAR
VERSION:2.0
PRODID:-//FatChanceBellyDance® University - ECPv6.15.20//NONSGML v1.0//EN
CALSCALE:GREGORIAN
METHOD:PUBLISH
X-ORIGINAL-URL:https://fcbdu.com
X-WR-CALDESC:Events for FatChanceBellyDance® University
REFRESH-INTERVAL;VALUE=DURATION:PT1H
X-Robots-Tag:noindex
X-PUBLISHED-TTL:PT1H
BEGIN:VTIMEZONE
TZID:America/Los_Angeles
BEGIN:DAYLIGHT
TZOFFSETFROM:-0800
TZOFFSETTO:-0700
TZNAME:PDT
DTSTART:20250309T100000
END:DAYLIGHT
BEGIN:STANDARD
TZOFFSETFROM:-0700
TZOFFSETTO:-0800
TZNAME:PST
DTSTART:20251102T090000
END:STANDARD
BEGIN:DAYLIGHT
TZOFFSETFROM:-0800
TZOFFSETTO:-0700
TZNAME:PDT
DTSTART:20260308T100000
END:DAYLIGHT
BEGIN:STANDARD
TZOFFSETFROM:-0700
TZOFFSETTO:-0800
TZNAME:PST
DTSTART:20261101T090000
END:STANDARD
BEGIN:DAYLIGHT
TZOFFSETFROM:-0800
TZOFFSETTO:-0700
TZNAME:PDT
DTSTART:20270314T100000
END:DAYLIGHT
BEGIN:STANDARD
TZOFFSETFROM:-0700
TZOFFSETTO:-0800
TZNAME:PST
DTSTART:20271107T090000
END:STANDARD
END:VTIMEZONE
BEGIN:VEVENT
DTSTART;VALUE=DATE:20260504
DTEND;VALUE=DATE:20260511
DTSTAMP:20260423T142926
CREATED:20260107T163111Z
LAST-MODIFIED:20260411T170918Z
UID:9386-1777852800-1778457599@fcbdu.com
SUMMARY:General Skills and Teacher Training - Kazakhstan
DESCRIPTION:Join us in Kazakhstan for an immersive FatChanceBellyDance® Style General Skills & Teacher Training\, proudly hosted by Olga Meos. \nThis year TRIBAL KZ Festival is a focused and curated experience centered around certification\, learning\, and depth of process.\nGS & TT certification\, master classes\, cultural program\, and festival events come together as one immersive environment. \nLed by DeAnna Freeman and Philippa Morai\, this training provides a supportive and inspiring environment to refine foundational skills\, deepen group improvisation\, and enhance your understanding of FCBD® Style as a shared language. \nRegistration is now open\nAll details\, schedule\, calendar\, formats\, and pricing are available at tribal-dance.com
URL:https://fcbdu.com/event/general-skills-and-teacher-training-kazakhstan/
CATEGORIES:General Skills Certification,Teacher Training Certification
ATTACH;FMTTYPE=image/jpeg:https://fcbdu.com/wp-content/uploads/2026/04/Untitled-design-9.jpg
END:VEVENT
END:VCALENDAR