BEGIN:VCALENDAR
VERSION:2.0
PRODID:-//FatChanceBellyDance® University - ECPv6.15.20//NONSGML v1.0//EN
CALSCALE:GREGORIAN
METHOD:PUBLISH
X-WR-CALNAME:FatChanceBellyDance® University
X-ORIGINAL-URL:https://fcbdu.com
X-WR-CALDESC:Events for FatChanceBellyDance® University
REFRESH-INTERVAL;VALUE=DURATION:PT1H
X-Robots-Tag:noindex
X-PUBLISHED-TTL:PT1H
BEGIN:VTIMEZONE
TZID:America/Los_Angeles
BEGIN:DAYLIGHT
TZOFFSETFROM:-0800
TZOFFSETTO:-0700
TZNAME:PDT
DTSTART:20250309T100000
END:DAYLIGHT
BEGIN:STANDARD
TZOFFSETFROM:-0700
TZOFFSETTO:-0800
TZNAME:PST
DTSTART:20251102T090000
END:STANDARD
BEGIN:DAYLIGHT
TZOFFSETFROM:-0800
TZOFFSETTO:-0700
TZNAME:PDT
DTSTART:20260308T100000
END:DAYLIGHT
BEGIN:STANDARD
TZOFFSETFROM:-0700
TZOFFSETTO:-0800
TZNAME:PST
DTSTART:20261101T090000
END:STANDARD
BEGIN:DAYLIGHT
TZOFFSETFROM:-0800
TZOFFSETTO:-0700
TZNAME:PDT
DTSTART:20270314T100000
END:DAYLIGHT
BEGIN:STANDARD
TZOFFSETFROM:-0700
TZOFFSETTO:-0800
TZNAME:PST
DTSTART:20271107T090000
END:STANDARD
END:VTIMEZONE
BEGIN:VTIMEZONE
TZID:Atlantic/South_Georgia
BEGIN:STANDARD
TZOFFSETFROM:-0200
TZOFFSETTO:-0200
TZNAME:-02
DTSTART:20250101T000000
END:STANDARD
END:VTIMEZONE
BEGIN:VEVENT
DTSTART;TZID=America/Los_Angeles:20260412T100000
DTEND;TZID=America/Los_Angeles:20260412T110000
DTSTAMP:20260423T092228
CREATED:20260405T155827Z
LAST-MODIFIED:20260405T155906Z
UID:10413-1775988000-1775991600@fcbdu.com
SUMMARY:Tribal Talk - A Retrospective
DESCRIPTION:Exclusive Members-Only Event! \nStep back in time and experience the roots of FatChanceBellyDance®Style through the words that helped shape a global movement.\nJoin FCBD® creator Carolena Nericcio for an exclusive multi-part live reading of the Tribal Talk Retrospective—a curated collection of articles from the original Tribal Talk newsletters\, produced and edited by Nadia Khastagir from 1997 to 2001. \nThis rare look into the foundational years of FCBD® offers a glimpse into the questions\, inspirations\, and conversations that defined the early days of our dance. Carolena will read selections from the compilation and offer personal commentary\, insights\, and reflections along the way. \nMore than just a reading—this is a storytelling session\, a living history\, and a celebration of the community that made it all possible. \nAT 10AM PACIFIC (GMT-8) \nYou can purchase the downloadable version of the retrospective and read along: https://fcbd.com/…/tribal-talk-the-voice-of…/\nJOIN THE EVENT HERE: https://courses.fcbdu.com/p/tribaltalkretrospective
URL:https://fcbdu.com/event/tribal-talk-a-retrospective-3/
ATTACH;FMTTYPE=image/png:https://fcbdu.com/wp-content/uploads/2026/01/Tribal-Talk-2-YouTube-Thumbnail.png
ORGANIZER;CN="FCBDU":MAILTO:deanna@fcbdu.com
END:VEVENT
BEGIN:VEVENT
DTSTART;TZID=America/Los_Angeles:20260329T100000
DTEND;TZID=America/Los_Angeles:20260329T110000
DTSTAMP:20260423T092228
CREATED:20260315T222318Z
LAST-MODIFIED:20260315T222355Z
UID:10302-1774778400-1774782000@fcbdu.com
SUMMARY:Ask Carolena - Monthly Member Event
DESCRIPTION:𝗔 Member 𝗲𝘅𝗰𝗹𝘂𝘀𝗶𝘃𝗲 𝗲𝘃𝗲𝗻𝘁:\n𝗟𝗜𝗩𝗘\, 𝗠𝗼𝗻𝘁𝗵𝗹𝘆 𝗤&𝗔 𝗦𝗲𝘀𝘀𝗶𝗼𝗻 𝘄𝗶𝘁𝗵 𝘁𝗵𝗲 𝗰𝗿𝗲𝗮𝘁𝗼𝗿 𝗼𝗳 𝗙𝗮𝘁𝗖𝗵𝗮𝗻𝗰𝗲𝗕𝗲𝗹𝗹𝘆𝗱𝗮𝗻𝗰𝗲® 𝗦𝘁𝘆𝗹𝗲 to answer all your questions regarding the topics of the month’s classes and workshops at FCBD® University.\nThis is your opportunity to keep learning 𝘀𝘁𝗿𝗮𝗶𝗴𝗵𝘁 𝗳𝗿𝗼𝗺 𝘁𝗵𝗲 𝘀𝗼𝘂𝗿𝗰𝗲. \nEver dreamed of being able to ask her anything you wanted after a FatChanceBellyDance® class you’ve just taken? That is a reality now!\nShe’ll be there for you\, for us\, for our Community.\n\nNot a monthly subscriber? You can join today: https://courses.fcbdu.com/p/monthly-subscription
URL:https://fcbdu.com/event/ask-carolena-monthly-member-event-3/
ATTACH;FMTTYPE=image/png:https://fcbdu.com/wp-content/uploads/2026/01/Ask-Carolena-October-1080-×-1350-px-Instagram-Post.png
END:VEVENT
BEGIN:VEVENT
DTSTART;TZID=America/Los_Angeles:20260328T090000
DTEND;TZID=America/Los_Angeles:20260328T100000
DTSTAMP:20260423T092228
CREATED:20260322T154648Z
LAST-MODIFIED:20260322T154648Z
UID:10326-1774688400-1774692000@fcbdu.com
SUMMARY:Certified Studio - Quarterly Meetup
DESCRIPTION:Join us for our quarterly gathering exclusively for FCBD®U Certified Studios from around the world! This is your dedicated space to connect with fellow teachers\, share insights on teaching topics\, exchange ideas\, and build the global FCBD® Style community together. Whether you’re looking for inspiration\, support\, or simply a chance to catch up\, this is the place to be. We can’t wait to see you there! \nAccess the Zoom link in your Certified Studio dashboard. \nEmail certifiedstudio@fcbdU.com with any questions.
URL:https://fcbdu.com/event/certified-studio-quarterly-meetup/
ATTACH;FMTTYPE=image/png:https://fcbdu.com/wp-content/uploads/2026/03/Copy-of-Classroom-Management-Certified-Studio-2.png
ORGANIZER;CN="FCBDU":MAILTO:deanna@fcbdu.com
END:VEVENT
BEGIN:VEVENT
DTSTART;VALUE=DATE:20260328
DTEND;VALUE=DATE:20260330
DTSTAMP:20260423T092228
CREATED:20260125T233032Z
LAST-MODIFIED:20260125T233046Z
UID:10017-1774656000-1774828799@fcbdu.com
SUMMARY:Shimmy in Bloom\, Workshops with Liz Malcom
DESCRIPTION:Join us March 28th – 29th\, 2026 in Atlanta\, GA to learn FatChanceBellyDance® with Advanced FCBD®Style Instructor Liz Malcom. Explore the art of group improvisational choreography\, deepen your skills\, and celebrate the joy of dance together.
URL:https://fcbdu.com/event/shimmy-in-bloom-workshops-with-liz-malcom/
LOCATION:See Workshop Website for Venue Information
ATTACH;FMTTYPE=image/png:https://fcbdu.com/wp-content/uploads/2026/01/Screenshot-2026-01-24-at-6.24.29-PM.png
END:VEVENT
BEGIN:VEVENT
DTSTART;TZID=America/Los_Angeles:20260307T090000
DTEND;TZID=America/Los_Angeles:20260307T103000
DTSTAMP:20260423T092228
CREATED:20260211T000308Z
LAST-MODIFIED:20260219T150539Z
UID:10138-1772874000-1772879400@fcbdu.com
SUMMARY:Turkish Style Bellydance
DESCRIPTION:Turkish style bellydance has had a strong influence on the movement quality\, musicality\, and dynamic energy found within FatChanceBellyDance® Style. \nIn this workshop\, we’ll explore the roots of Turkish style through joyful\, rounded\, and sensual movement\, traveling steps\, and the lively rhythm of Turkish shimmies. \nThis class offers both movement and context\, helping FCBD® Style dancers better understand where certain textures\, pathways\, and musical responses originate. By connecting technique with cultural background\, dancers gain a deeper appreciation for the global influences that inform our shared dance language. \nAn inspiring opportunity to expand your movement vocabulary\, refine musicality\, and connect more fully to the roots of the dance—guided by one of the leading Turkish style bellydance artists\, Serkan Tutar.
URL:https://fcbdu.com/event/turkish-style-bellydance/
CATEGORIES:.Workshop
ATTACH;FMTTYPE=image/png:https://fcbdu.com/wp-content/uploads/2026/02/Turkish-Style-Bellydance-Movement-Influence-1-scaled.png
ORGANIZER;CN="FCBDU":MAILTO:deanna@fcbdu.com
END:VEVENT
BEGIN:VEVENT
DTSTART;TZID=America/Los_Angeles:20260228T090000
DTEND;TZID=America/Los_Angeles:20260228T100000
DTSTAMP:20260423T092228
CREATED:20260201T140053Z
LAST-MODIFIED:20260218T030804Z
UID:9410-1772269200-1772272800@fcbdu.com
SUMMARY:LIVE PODCAST - The History and Cultural Roots of Turkish Style Bellydance — with Serkan Tutar
DESCRIPTION:In this episode\, we’re joined by special guest Serkan Tutar\, an internationally respected dancer and teacher\, for a deep and thoughtful exploration of the history and roots of Turkish style bellydance. \nSerkan brings lived experience\, historical insight\, and a deep respect for tradition as he shares how Turkish style bellydance developed through centuries of cultural exchange\, music\, and social dance. Together\, we explore how regional influences\, rhythm\, musicality\, and performance context shaped the distinct qualities that define this vibrant dance form today. \nOur conversation touches on: \n•⁠ ⁠The cultural and historical foundations of Turkish style bellydance\n•⁠ ⁠How music\, rhythm\, and movement work together in this tradition\n•⁠ ⁠The evolution of the style from social and stage contexts\n•⁠ ⁠Serkan’s personal journey and his role in preserving and sharing this dance globally \nThis episode is an invitation to look beyond aesthetics and technique\, and into the cultural lineage\, values\, and lived traditions that inform Turkish style bellydance. Whether you’re a dancer\, teacher\, or simply curious about the roots of the dances we love\, this conversation offers insight\, nuance\, and inspiration.
URL:https://fcbdu.com/event/the-history-and-cultural-roots-of-turkish-style-bellydance-with-serkan-tutar/
ATTACH;FMTTYPE=image/png:https://fcbdu.com/wp-content/uploads/2026/01/History-of-Turkish-Dance-Podcast-Instagram-Post.png
END:VEVENT
BEGIN:VEVENT
DTSTART;TZID=America/Los_Angeles:20260222T100000
DTEND;TZID=America/Los_Angeles:20260222T110000
DTSTAMP:20260423T092228
CREATED:20260126T004559Z
LAST-MODIFIED:20260126T005723Z
UID:10042-1771754400-1771758000@fcbdu.com
SUMMARY:Ask Carolena - Monthly Member Event
DESCRIPTION:𝗔 Member 𝗲𝘅𝗰𝗹𝘂𝘀𝗶𝘃𝗲 𝗲𝘃𝗲𝗻𝘁:\n𝗟𝗜𝗩𝗘\, 𝗠𝗼𝗻𝘁𝗵𝗹𝘆 𝗤&𝗔 𝗦𝗲𝘀𝘀𝗶𝗼𝗻 𝘄𝗶𝘁𝗵 𝘁𝗵𝗲 𝗰𝗿𝗲𝗮𝘁𝗼𝗿 𝗼𝗳 𝗙𝗮𝘁𝗖𝗵𝗮𝗻𝗰𝗲𝗕𝗲𝗹𝗹𝘆𝗱𝗮𝗻𝗰𝗲® 𝗦𝘁𝘆𝗹𝗲 to answer all your questions regarding the topics of the month’s classes and workshops at FCBD® University.\nThis is your opportunity to keep learning 𝘀𝘁𝗿𝗮𝗶𝗴𝗵𝘁 𝗳𝗿𝗼𝗺 𝘁𝗵𝗲 𝘀𝗼𝘂𝗿𝗰𝗲. \nEver dreamed of being able to ask her anything you wanted after a FatChanceBellyDance® class you’ve just taken? That is a reality now!\nShe’ll be there for you\, for us\, for our Community.\n\nNot a monthly subscriber? You can join today: https://courses.fcbdu.com/p/monthly-subscription
URL:https://fcbdu.com/event/ask-carolena-monthly-member-event-2/
ATTACH;FMTTYPE=image/png:https://fcbdu.com/wp-content/uploads/2026/01/Ask-Carolena-October-1080-×-1350-px-Instagram-Post.png
END:VEVENT
BEGIN:VEVENT
DTSTART;TZID=America/Los_Angeles:20260208T100000
DTEND;TZID=America/Los_Angeles:20260208T110000
DTSTAMP:20260423T092228
CREATED:20260126T004405Z
LAST-MODIFIED:20260126T004405Z
UID:10037-1770544800-1770548400@fcbdu.com
SUMMARY:Tribal Talk - A Retrospective
DESCRIPTION:Exclusive Members-Only Event! \nStep back in time and experience the roots of FatChanceBellyDance®Style through the words that helped shape a global movement.\nJoin FCBD® creator Carolena Nericcio for an exclusive multi-part live reading of the Tribal Talk Retrospective—a curated collection of articles from the original Tribal Talk newsletters\, produced and edited by Nadia Khastagir from 1997 to 2001. \nThis rare look into the foundational years of FCBD® offers a glimpse into the questions\, inspirations\, and conversations that defined the early days of our dance. Carolena will read selections from the compilation and offer personal commentary\, insights\, and reflections along the way. \nMore than just a reading—this is a storytelling session\, a living history\, and a celebration of the community that made it all possible. \nAT 10AM PACIFIC (GMT-8) \nYou can purchase the downloadable version of the retrospective and read along: https://fcbd.com/…/tribal-talk-the-voice-of…/\nJOIN THE EVENT HERE: https://courses.fcbdu.com/p/tribaltalkretrospective
URL:https://fcbdu.com/event/tribal-talk-a-retrospective/
ATTACH;FMTTYPE=image/png:https://fcbdu.com/wp-content/uploads/2026/01/Tribal-Talk-2-YouTube-Thumbnail.png
ORGANIZER;CN="FCBDU":MAILTO:deanna@fcbdu.com
END:VEVENT
BEGIN:VEVENT
DTSTART;TZID=America/Los_Angeles:20260125T100000
DTEND;TZID=America/Los_Angeles:20260125T110000
DTSTAMP:20260423T092228
CREATED:20260119T172144Z
LAST-MODIFIED:20260126T010754Z
UID:9404-1769335200-1769338800@fcbdu.com
SUMMARY:Ask Carolena - Monthly Member Event
DESCRIPTION:𝗔 Member 𝗲𝘅𝗰𝗹𝘂𝘀𝗶𝘃𝗲 𝗲𝘃𝗲𝗻𝘁:\n𝗟𝗜𝗩𝗘\, 𝗠𝗼𝗻𝘁𝗵𝗹𝘆 𝗤&𝗔 𝗦𝗲𝘀𝘀𝗶𝗼𝗻 𝘄𝗶𝘁𝗵 𝘁𝗵𝗲 𝗰𝗿𝗲𝗮𝘁𝗼𝗿 𝗼𝗳 𝗙𝗮𝘁𝗖𝗵𝗮𝗻𝗰𝗲𝗕𝗲𝗹𝗹𝘆𝗱𝗮𝗻𝗰𝗲® 𝗦𝘁𝘆𝗹𝗲 to answer all your questions regarding the topics of the month’s classes and workshops at FCBD® University.\nThis is your opportunity to keep learning 𝘀𝘁𝗿𝗮𝗶𝗴𝗵𝘁 𝗳𝗿𝗼𝗺 𝘁𝗵𝗲 𝘀𝗼𝘂𝗿𝗰𝗲. \nEver dreamed of being able to ask her anything you wanted after a FatChanceBellyDance® class you’ve just taken? That is a reality now!\nShe’ll be there for you\, for us\, for our Community.\n\nNot a monthly subscriber? You can join today: https://courses.fcbdu.com/p/monthly-subscription
URL:https://fcbdu.com/event/ask-carolena-monthly-member-event/
ATTACH;FMTTYPE=image/png:https://fcbdu.com/wp-content/uploads/2026/01/Ask-Carolena.png
END:VEVENT
END:VCALENDAR