BEGIN:VCALENDAR
VERSION:2.0
PRODID:-//FatChanceBellyDance® University - ECPv6.15.20//NONSGML v1.0//EN
CALSCALE:GREGORIAN
METHOD:PUBLISH
X-WR-CALNAME:FatChanceBellyDance® University
X-ORIGINAL-URL:https://fcbdu.com
X-WR-CALDESC:Events for FatChanceBellyDance® University
REFRESH-INTERVAL;VALUE=DURATION:PT1H
X-Robots-Tag:noindex
X-PUBLISHED-TTL:PT1H
BEGIN:VTIMEZONE
TZID:America/Los_Angeles
BEGIN:DAYLIGHT
TZOFFSETFROM:-0800
TZOFFSETTO:-0700
TZNAME:PDT
DTSTART:20250309T100000
END:DAYLIGHT
BEGIN:STANDARD
TZOFFSETFROM:-0700
TZOFFSETTO:-0800
TZNAME:PST
DTSTART:20251102T090000
END:STANDARD
BEGIN:DAYLIGHT
TZOFFSETFROM:-0800
TZOFFSETTO:-0700
TZNAME:PDT
DTSTART:20260308T100000
END:DAYLIGHT
BEGIN:STANDARD
TZOFFSETFROM:-0700
TZOFFSETTO:-0800
TZNAME:PST
DTSTART:20261101T090000
END:STANDARD
BEGIN:DAYLIGHT
TZOFFSETFROM:-0800
TZOFFSETTO:-0700
TZNAME:PDT
DTSTART:20270314T100000
END:DAYLIGHT
BEGIN:STANDARD
TZOFFSETFROM:-0700
TZOFFSETTO:-0800
TZNAME:PST
DTSTART:20271107T090000
END:STANDARD
END:VTIMEZONE
BEGIN:VTIMEZONE
TZID:Europe/Vienna
BEGIN:DAYLIGHT
TZOFFSETFROM:+0100
TZOFFSETTO:+0200
TZNAME:CEST
DTSTART:20250330T010000
END:DAYLIGHT
BEGIN:STANDARD
TZOFFSETFROM:+0200
TZOFFSETTO:+0100
TZNAME:CET
DTSTART:20251026T010000
END:STANDARD
BEGIN:DAYLIGHT
TZOFFSETFROM:+0100
TZOFFSETTO:+0200
TZNAME:CEST
DTSTART:20260329T010000
END:DAYLIGHT
BEGIN:STANDARD
TZOFFSETFROM:+0200
TZOFFSETTO:+0100
TZNAME:CET
DTSTART:20261025T010000
END:STANDARD
BEGIN:DAYLIGHT
TZOFFSETFROM:+0100
TZOFFSETTO:+0200
TZNAME:CEST
DTSTART:20270328T010000
END:DAYLIGHT
BEGIN:STANDARD
TZOFFSETFROM:+0200
TZOFFSETTO:+0100
TZNAME:CET
DTSTART:20271031T010000
END:STANDARD
END:VTIMEZONE
BEGIN:VEVENT
DTSTART;VALUE=DATE:20260706
DTEND;VALUE=DATE:20260713
DTSTAMP:20260423T164628
CREATED:20251216T211759Z
LAST-MODIFIED:20260107T164902Z
UID:8284-1783296000-1783900799@fcbdu.com
SUMMARY:General Skills and Teacher Training - Brazil
DESCRIPTION:Join us in São Paulo\, Brazil\, for an immersive FatChanceBellyDance® Style General Skills & Teacher Training\, proudly hosted by Takata. This special event brings together dancers from across South America for an in-depth exploration of FCBD®Style technique\, concepts\, history\, and community. \nLed by DeAnna Freeman and Lore Rojas\, this training provides a supportive and inspiring environment to refine foundational skills\, deepen group improvisation\, and enhance your understanding of FCBD® Style as a shared language. \nThis event is SOLD OUT. Wait list is available at takataproducoes.com
URL:https://fcbdu.com/event/general-skills-and-teacher-training-certifications-in-sao-paulo-brazil/
CATEGORIES:General Skills Certification,Teacher Training Certification
ATTACH;FMTTYPE=image/png:https://fcbdu.com/wp-content/uploads/2025/12/8AA28EC9-73FA-4F0F-AE42-6FEC1D802CEA.png
END:VEVENT
BEGIN:VEVENT
DTSTART;VALUE=DATE:20260807
DTEND;VALUE=DATE:20260810
DTSTAMP:20260423T164628
CREATED:20260411T170339Z
LAST-MODIFIED:20260411T170355Z
UID:10408-1786060800-1786319999@fcbdu.com
SUMMARY:Skills'n'Zills
DESCRIPTION:A three day FCBD-Style event in Linz\, Austria. With workshops\, a stage show and hafla.
URL:https://fcbdu.com/event/skillsnzills/
LOCATION:See Workshop Website for Venue Information
CATEGORIES:.Workshop
ATTACH;FMTTYPE=image/jpeg:https://fcbdu.com/wp-content/uploads/2026/04/1000164976.jpg
END:VEVENT
BEGIN:VEVENT
DTSTART;TZID=America/Los_Angeles:20260926T090000
DTEND;TZID=America/Los_Angeles:20260926T100000
DTSTAMP:20260423T164628
CREATED:20260322T155029Z
LAST-MODIFIED:20260322T155110Z
UID:10332-1790413200-1790416800@fcbdu.com
SUMMARY:Certified Studio - Quarterly Meetup
DESCRIPTION:Join us for our quarterly gathering exclusively for FCBD®U Certified Studios from around the world! This is your dedicated space to connect with fellow teachers\, share insights on teaching topics\, exchange ideas\, and build the global FCBD® Style community together. Whether you’re looking for inspiration\, support\, or simply a chance to catch up\, this is the place to be. We can’t wait to see you there! \nAccess the Zoom link in your Certified Studio dashboard. \nEmail certifiedstudio@fcbdU.com with any questions.
URL:https://fcbdu.com/event/certified-studio-quarterly-meetup-3/
ATTACH;FMTTYPE=image/png:https://fcbdu.com/wp-content/uploads/2026/03/Copy-of-Classroom-Management-Certified-Studio-2.png
ORGANIZER;CN="FCBDU":MAILTO:deanna@fcbdu.com
END:VEVENT
BEGIN:VEVENT
DTSTART;TZID=America/Los_Angeles:20261219T090000
DTEND;TZID=America/Los_Angeles:20261219T100000
DTSTAMP:20260423T164628
CREATED:20260322T155409Z
LAST-MODIFIED:20260322T155438Z
UID:10334-1797670800-1797674400@fcbdu.com
SUMMARY:Certified Studio - Quarterly Meetup
DESCRIPTION:Join us for our quarterly gathering exclusively for FCBD®U Certified Studios from around the world! This is your dedicated space to connect with fellow teachers\, share insights on teaching topics\, exchange ideas\, and build the global FCBD® Style community together. Whether you’re looking for inspiration\, support\, or simply a chance to catch up\, this is the place to be. We can’t wait to see you there! \nAccess the Zoom link in your Certified Studio dashboard. \nEmail certifiedstudio@fcbdU.com with any questions.
URL:https://fcbdu.com/event/certified-studio-quarterly-meetup-4/
ATTACH;FMTTYPE=image/png:https://fcbdu.com/wp-content/uploads/2026/03/Copy-of-Classroom-Management-Certified-Studio-2.png
ORGANIZER;CN="FCBDU":MAILTO:deanna@fcbdu.com
END:VEVENT
END:VCALENDAR