BEGIN:VCALENDAR
VERSION:2.0
PRODID:-//FatChanceBellyDance® University - ECPv6.15.20//NONSGML v1.0//EN
CALSCALE:GREGORIAN
METHOD:PUBLISH
X-ORIGINAL-URL:https://fcbdu.com
X-WR-CALDESC:Events for FatChanceBellyDance® University
REFRESH-INTERVAL;VALUE=DURATION:PT1H
X-Robots-Tag:noindex
X-PUBLISHED-TTL:PT1H
BEGIN:VTIMEZONE
TZID:America/Los_Angeles
BEGIN:DAYLIGHT
TZOFFSETFROM:-0800
TZOFFSETTO:-0700
TZNAME:PDT
DTSTART:20250309T100000
END:DAYLIGHT
BEGIN:STANDARD
TZOFFSETFROM:-0700
TZOFFSETTO:-0800
TZNAME:PST
DTSTART:20251102T090000
END:STANDARD
BEGIN:DAYLIGHT
TZOFFSETFROM:-0800
TZOFFSETTO:-0700
TZNAME:PDT
DTSTART:20260308T100000
END:DAYLIGHT
BEGIN:STANDARD
TZOFFSETFROM:-0700
TZOFFSETTO:-0800
TZNAME:PST
DTSTART:20261101T090000
END:STANDARD
BEGIN:DAYLIGHT
TZOFFSETFROM:-0800
TZOFFSETTO:-0700
TZNAME:PDT
DTSTART:20270314T100000
END:DAYLIGHT
BEGIN:STANDARD
TZOFFSETFROM:-0700
TZOFFSETTO:-0800
TZNAME:PST
DTSTART:20271107T090000
END:STANDARD
END:VTIMEZONE
BEGIN:VTIMEZONE
TZID:Atlantic/South_Georgia
BEGIN:STANDARD
TZOFFSETFROM:-0200
TZOFFSETTO:-0200
TZNAME:-02
DTSTART:20250101T000000
END:STANDARD
END:VTIMEZONE
BEGIN:VEVENT
DTSTART;TZID=America/Los_Angeles:20260307T090000
DTEND;TZID=America/Los_Angeles:20260307T103000
DTSTAMP:20260423T110306
CREATED:20260211T000308Z
LAST-MODIFIED:20260219T150539Z
UID:10138-1772874000-1772879400@fcbdu.com
SUMMARY:Turkish Style Bellydance
DESCRIPTION:Turkish style bellydance has had a strong influence on the movement quality\, musicality\, and dynamic energy found within FatChanceBellyDance® Style. \nIn this workshop\, we’ll explore the roots of Turkish style through joyful\, rounded\, and sensual movement\, traveling steps\, and the lively rhythm of Turkish shimmies. \nThis class offers both movement and context\, helping FCBD® Style dancers better understand where certain textures\, pathways\, and musical responses originate. By connecting technique with cultural background\, dancers gain a deeper appreciation for the global influences that inform our shared dance language. \nAn inspiring opportunity to expand your movement vocabulary\, refine musicality\, and connect more fully to the roots of the dance—guided by one of the leading Turkish style bellydance artists\, Serkan Tutar.
URL:https://fcbdu.com/event/turkish-style-bellydance/
CATEGORIES:.Workshop
ATTACH;FMTTYPE=image/png:https://fcbdu.com/wp-content/uploads/2026/02/Turkish-Style-Bellydance-Movement-Influence-1-scaled.png
ORGANIZER;CN="FCBDU":MAILTO:deanna@fcbdu.com
END:VEVENT
BEGIN:VEVENT
DTSTART;VALUE=DATE:20260328
DTEND;VALUE=DATE:20260330
DTSTAMP:20260423T110306
CREATED:20260125T233032Z
LAST-MODIFIED:20260125T233046Z
UID:10017-1774656000-1774828799@fcbdu.com
SUMMARY:Shimmy in Bloom\, Workshops with Liz Malcom
DESCRIPTION:Join us March 28th – 29th\, 2026 in Atlanta\, GA to learn FatChanceBellyDance® with Advanced FCBD®Style Instructor Liz Malcom. Explore the art of group improvisational choreography\, deepen your skills\, and celebrate the joy of dance together.
URL:https://fcbdu.com/event/shimmy-in-bloom-workshops-with-liz-malcom/
LOCATION:See Workshop Website for Venue Information
ATTACH;FMTTYPE=image/png:https://fcbdu.com/wp-content/uploads/2026/01/Screenshot-2026-01-24-at-6.24.29-PM.png
END:VEVENT
BEGIN:VEVENT
DTSTART;TZID=America/Los_Angeles:20260328T090000
DTEND;TZID=America/Los_Angeles:20260328T100000
DTSTAMP:20260423T110306
CREATED:20260322T154648Z
LAST-MODIFIED:20260322T154648Z
UID:10326-1774688400-1774692000@fcbdu.com
SUMMARY:Certified Studio - Quarterly Meetup
DESCRIPTION:Join us for our quarterly gathering exclusively for FCBD®U Certified Studios from around the world! This is your dedicated space to connect with fellow teachers\, share insights on teaching topics\, exchange ideas\, and build the global FCBD® Style community together. Whether you’re looking for inspiration\, support\, or simply a chance to catch up\, this is the place to be. We can’t wait to see you there! \nAccess the Zoom link in your Certified Studio dashboard. \nEmail certifiedstudio@fcbdU.com with any questions.
URL:https://fcbdu.com/event/certified-studio-quarterly-meetup/
ATTACH;FMTTYPE=image/png:https://fcbdu.com/wp-content/uploads/2026/03/Copy-of-Classroom-Management-Certified-Studio-2.png
ORGANIZER;CN="FCBDU":MAILTO:deanna@fcbdu.com
END:VEVENT
BEGIN:VEVENT
DTSTART;TZID=America/Los_Angeles:20260329T100000
DTEND;TZID=America/Los_Angeles:20260329T110000
DTSTAMP:20260423T110306
CREATED:20260315T222318Z
LAST-MODIFIED:20260315T222355Z
UID:10302-1774778400-1774782000@fcbdu.com
SUMMARY:Ask Carolena - Monthly Member Event
DESCRIPTION:𝗔 Member 𝗲𝘅𝗰𝗹𝘂𝘀𝗶𝘃𝗲 𝗲𝘃𝗲𝗻𝘁:\n𝗟𝗜𝗩𝗘\, 𝗠𝗼𝗻𝘁𝗵𝗹𝘆 𝗤&𝗔 𝗦𝗲𝘀𝘀𝗶𝗼𝗻 𝘄𝗶𝘁𝗵 𝘁𝗵𝗲 𝗰𝗿𝗲𝗮𝘁𝗼𝗿 𝗼𝗳 𝗙𝗮𝘁𝗖𝗵𝗮𝗻𝗰𝗲𝗕𝗲𝗹𝗹𝘆𝗱𝗮𝗻𝗰𝗲® 𝗦𝘁𝘆𝗹𝗲 to answer all your questions regarding the topics of the month’s classes and workshops at FCBD® University.\nThis is your opportunity to keep learning 𝘀𝘁𝗿𝗮𝗶𝗴𝗵𝘁 𝗳𝗿𝗼𝗺 𝘁𝗵𝗲 𝘀𝗼𝘂𝗿𝗰𝗲. \nEver dreamed of being able to ask her anything you wanted after a FatChanceBellyDance® class you’ve just taken? That is a reality now!\nShe’ll be there for you\, for us\, for our Community.\n\nNot a monthly subscriber? You can join today: https://courses.fcbdu.com/p/monthly-subscription
URL:https://fcbdu.com/event/ask-carolena-monthly-member-event-3/
ATTACH;FMTTYPE=image/png:https://fcbdu.com/wp-content/uploads/2026/01/Ask-Carolena-October-1080-×-1350-px-Instagram-Post.png
END:VEVENT
END:VCALENDAR