BEGIN:VCALENDAR
VERSION:2.0
PRODID:-//FatChanceBellyDance® University - ECPv6.15.20//NONSGML v1.0//EN
CALSCALE:GREGORIAN
METHOD:PUBLISH
X-ORIGINAL-URL:https://fcbdu.com
X-WR-CALDESC:Events for FatChanceBellyDance® University
REFRESH-INTERVAL;VALUE=DURATION:PT1H
X-Robots-Tag:noindex
X-PUBLISHED-TTL:PT1H
BEGIN:VTIMEZONE
TZID:America/Los_Angeles
BEGIN:DAYLIGHT
TZOFFSETFROM:-0800
TZOFFSETTO:-0700
TZNAME:PDT
DTSTART:20250309T100000
END:DAYLIGHT
BEGIN:STANDARD
TZOFFSETFROM:-0700
TZOFFSETTO:-0800
TZNAME:PST
DTSTART:20251102T090000
END:STANDARD
BEGIN:DAYLIGHT
TZOFFSETFROM:-0800
TZOFFSETTO:-0700
TZNAME:PDT
DTSTART:20260308T100000
END:DAYLIGHT
BEGIN:STANDARD
TZOFFSETFROM:-0700
TZOFFSETTO:-0800
TZNAME:PST
DTSTART:20261101T090000
END:STANDARD
BEGIN:DAYLIGHT
TZOFFSETFROM:-0800
TZOFFSETTO:-0700
TZNAME:PDT
DTSTART:20270314T100000
END:DAYLIGHT
BEGIN:STANDARD
TZOFFSETFROM:-0700
TZOFFSETTO:-0800
TZNAME:PST
DTSTART:20271107T090000
END:STANDARD
END:VTIMEZONE
BEGIN:VEVENT
DTSTART;TZID=America/Los_Angeles:20260627T090000
DTEND;TZID=America/Los_Angeles:20260627T100000
DTSTAMP:20260423T122419
CREATED:20260322T154800Z
LAST-MODIFIED:20260322T154955Z
UID:10330-1782550800-1782554400@fcbdu.com
SUMMARY:Certified Studio - Quarterly Meetup
DESCRIPTION:Join us for our quarterly gathering exclusively for FCBD®U Certified Studios from around the world! This is your dedicated space to connect with fellow teachers\, share insights on teaching topics\, exchange ideas\, and build the global FCBD® Style community together. Whether you’re looking for inspiration\, support\, or simply a chance to catch up\, this is the place to be. We can’t wait to see you there! \nAccess the Zoom link in your Certified Studio dashboard. \nEmail certifiedstudio@fcbdU.com with any questions.
URL:https://fcbdu.com/event/certified-studio-quarterly-meetup-2/
ATTACH;FMTTYPE=image/png:https://fcbdu.com/wp-content/uploads/2026/03/Copy-of-Classroom-Management-Certified-Studio-2.png
ORGANIZER;CN="FCBDU":MAILTO:deanna@fcbdu.com
END:VEVENT
END:VCALENDAR